BEGIN:VCALENDAR
VERSION:2.0
PRODID:-//eventon.com NONSGML v1.0//EN
CALSCALE:GREGORIAN
METHOD:PUBLISH
BEGIN:VEVENT
UID:69e8a1a021067
DTSTAMP:20260422T122328
DTSTART:20251023
DTEND:20251024
TZID:Pacific/Midway
LOCATION:
SUMMARY:Fredericktag
DESCRIPTION:\nhttps://gs-ergenzingen.de/events/fredericktag/
URL:https://gs-ergenzingen.de/events/fredericktag/
END:VEVENT
END:VCALENDAR