BEGIN:VCALENDAR
VERSION:2.0
PRODID:-//eventon.com NONSGML v1.0//EN
CALSCALE:GREGORIAN
METHOD:PUBLISH
BEGIN:VEVENT
UID:69e8c59bca22b
DTSTAMP:20260422T145659
DTSTART:20260526
DTEND:20260606
TZID:Pacific/Midway
LOCATION:
SUMMARY:Pfingstferien
DESCRIPTION:\nhttps://gs-ergenzingen.de/events/pfingstferien/
URL:https://gs-ergenzingen.de/events/pfingstferien/
END:VEVENT
END:VCALENDAR